Package: diffUTR Version: 1.19.0 Command: /home/biocbuild/bbs-3.23-bioc/R/bin/R CMD check --install=check:diffUTR.install-out.txt --library=/home/biocbuild/bbs-3.23-bioc/R/site-library --timings diffUTR_1.19.0.tar.gz StartedAt: 2025-11-03 22:41:14 -0500 (Mon, 03 Nov 2025) EndedAt: 2025-11-03 22:47:49 -0500 (Mon, 03 Nov 2025) EllapsedTime: 395.5 seconds RetCode: 0 Status: OK CheckDir: diffUTR.Rcheck Warnings: 0