Package: diffUTR Version: 1.19.0 Command: /home/biocbuild/bbs-3.23-bioc/R/bin/R CMD build --keep-empty-dirs --no-resave-data diffUTR StartedAt: 2025-11-03 17:13:46 -0500 (Mon, 03 Nov 2025) EndedAt: 2025-11-03 17:15:03 -0500 (Mon, 03 Nov 2025) EllapsedTime: 77.0 seconds RetCode: 0 Status: OK PackageFile: diffUTR_1.19.0.tar.gz PackageFileSize: 1.371 MiB