Package: diffHic Version: 1.43.0 Command: /home/biocbuild/bbs-3.23-bioc/R/bin/R CMD INSTALL diffHic StartedAt: 2025-11-02 15:40:53 -0500 (Sun, 02 Nov 2025) EndedAt: 2025-11-02 15:42:27 -0500 (Sun, 02 Nov 2025) EllapsedTime: 93.8 seconds RetCode: 0 Status: OK