Package: diffHic Version: 1.43.0 Command: /home/biocbuild/bbs-3.23-bioc/R/bin/R CMD check --install=check:diffHic.install-out.txt --library=/home/biocbuild/bbs-3.23-bioc/R/site-library --timings diffHic_1.43.0.tar.gz StartedAt: 2025-10-31 22:50:35 -0400 (Fri, 31 Oct 2025) EndedAt: 2025-10-31 22:56:44 -0400 (Fri, 31 Oct 2025) EllapsedTime: 369.5 seconds RetCode: 0 Status: OK CheckDir: diffHic.Rcheck Warnings: 0