Package: diffGeneAnalysis Version: 1.93.0 Command: /home/biocbuild/bbs-3.23-bioc/R/bin/R CMD INSTALL diffGeneAnalysis StartedAt: 2025-11-03 15:04:08 -0500 (Mon, 03 Nov 2025) EndedAt: 2025-11-03 15:04:17 -0500 (Mon, 03 Nov 2025) EllapsedTime: 9.0 seconds RetCode: 0 Status: OK