Package: derfinderPlot Version: 1.45.0 Command: /home/biocbuild/bbs-3.23-bioc/R/bin/R CMD INSTALL derfinderPlot StartedAt: 2025-11-04 15:55:17 -0500 (Tue, 04 Nov 2025) EndedAt: 2025-11-04 15:56:07 -0500 (Tue, 04 Nov 2025) EllapsedTime: 50.3 seconds RetCode: 0 Status: OK