Package: derfinderPlot Version: 1.45.0 Command: /home/biocbuild/bbs-3.23-bioc/R/bin/R CMD build --keep-empty-dirs --no-resave-data derfinderPlot StartedAt: 2025-11-04 17:11:59 -0500 (Tue, 04 Nov 2025) EndedAt: 2025-11-04 17:15:14 -0500 (Tue, 04 Nov 2025) EllapsedTime: 195.2 seconds RetCode: 0 Status: OK PackageFile: derfinderPlot_1.45.0.tar.gz PackageFileSize: 2.417 MiB