Package: derfinderPlot Version: 1.43.1 Command: /Library/Frameworks/R.framework/Resources/bin/R CMD INSTALL derfinderPlot StartedAt: 2025-10-06 15:50:25 -0400 (Mon, 06 Oct 2025) EndedAt: 2025-10-06 15:51:29 -0400 (Mon, 06 Oct 2025) EllapsedTime: 64.3 seconds RetCode: 0 Status: OK