Package: derfinderPlot Version: 1.43.1 Command: /Library/Frameworks/R.framework/Resources/bin/R CMD build --keep-empty-dirs --no-resave-data derfinderPlot StartedAt: 2025-10-07 16:47:41 -0400 (Tue, 07 Oct 2025) EndedAt: 2025-10-07 16:51:33 -0400 (Tue, 07 Oct 2025) EllapsedTime: 231.4 seconds RetCode: 0 Status: OK PackageFile: derfinderPlot_1.43.1.tar.gz PackageFileSize: 2.441 MiB