Package: derfinderPlot Version: 1.43.1 Command: rm -rf derfinderPlot.buildbin-libdir && mkdir derfinderPlot.buildbin-libdir && /Users/biocbuild/BBS/utils/build-universal.sh derfinderPlot_1.43.1.tar.gz /Library/Frameworks/R.framework/Resources/bin/R derfinderPlot.buildbin-libdir StartedAt: 2025-10-08 02:14:26 -0400 (Wed, 08 Oct 2025) EndedAt: 2025-10-08 02:15:36 -0400 (Wed, 08 Oct 2025) EllapsedTime: 70.6 seconds RetCode: 0 Status: OK PackageFile: derfinderPlot_1.43.1.tgz PackageFileSize: 2.477 MiB