Package: derfinderPlot Version: 1.43.1 Maintainer: Leonardo Collado-Torres MaintainerEmail: lcolladotor at gmail.com git_url: https://git.bioconductor.org/packages/derfinderPlot git_branch: devel git_last_commit: 7f2cdab git_last_commit_date: 2025-09-26 10:42:27 -0400 (Fri, 26 Sep 2025)