Package: derfinderHelper Version: 1.43.0 Command: /Library/Frameworks/R.framework/Resources/bin/R CMD INSTALL derfinderHelper StartedAt: 2025-10-06 15:15:48 -0400 (Mon, 06 Oct 2025) EndedAt: 2025-10-06 15:16:02 -0400 (Mon, 06 Oct 2025) EllapsedTime: 14.4 seconds RetCode: 0 Status: OK