Package: derfinderHelper Version: 1.43.0 Command: /Library/Frameworks/R.framework/Resources/bin/R CMD build --keep-empty-dirs --no-resave-data derfinderHelper StartedAt: 2025-10-06 16:46:26 -0400 (Mon, 06 Oct 2025) EndedAt: 2025-10-06 16:46:54 -0400 (Mon, 06 Oct 2025) EllapsedTime: 28.6 seconds RetCode: 0 Status: OK PackageFile: derfinderHelper_1.43.0.tar.gz PackageFileSize: 309.9 KiB