Package: derfinder Version: 1.45.0 Command: /home/biocbuild/bbs-3.23-bioc/R/bin/R CMD INSTALL derfinder StartedAt: 2025-11-20 15:58:03 -0500 (Thu, 20 Nov 2025) EndedAt: 2025-11-20 15:58:50 -0500 (Thu, 20 Nov 2025) EllapsedTime: 46.5 seconds RetCode: 0 Status: OK