Package: derfinder Version: 1.45.0 Command: /home/biocbuild/bbs-3.23-bioc/R/bin/R CMD build --keep-empty-dirs --no-resave-data derfinder StartedAt: 2025-11-20 17:16:29 -0500 (Thu, 20 Nov 2025) EndedAt: 2025-11-20 17:21:47 -0500 (Thu, 20 Nov 2025) EllapsedTime: 317.3 seconds RetCode: 0 Status: OK PackageFile: derfinder_1.45.0.tar.gz PackageFileSize: 2 MiB