Package: derfinder Version: 1.45.0 Command: /Library/Frameworks/R.framework/Resources/bin/R CMD INSTALL derfinder StartedAt: 2025-11-20 15:55:01 -0500 (Thu, 20 Nov 2025) EndedAt: 2025-11-20 15:56:05 -0500 (Thu, 20 Nov 2025) EllapsedTime: 63.8 seconds RetCode: 0 Status: OK