Package: derfinder Version: 1.45.0 Command: /Library/Frameworks/R.framework/Resources/bin/R CMD build --keep-empty-dirs --no-resave-data derfinder StartedAt: 2025-11-20 16:46:39 -0500 (Thu, 20 Nov 2025) EndedAt: 2025-11-20 16:53:12 -0500 (Thu, 20 Nov 2025) EllapsedTime: 393.1 seconds RetCode: 0 Status: OK PackageFile: derfinder_1.45.0.tar.gz PackageFileSize: 2.015 MiB