Package: derfinder Version: 1.43.1 Command: /Library/Frameworks/R.framework/Resources/bin/R CMD INSTALL derfinder StartedAt: 2025-10-21 15:30:29 -0400 (Tue, 21 Oct 2025) EndedAt: 2025-10-21 15:30:53 -0400 (Tue, 21 Oct 2025) EllapsedTime: 23.7 seconds RetCode: 0 Status: OK