Package: derfinder Version: 1.43.1 Command: /Library/Frameworks/R.framework/Resources/bin/R CMD build --keep-empty-dirs --no-resave-data derfinder StartedAt: 2025-10-21 16:12:12 -0400 (Tue, 21 Oct 2025) EndedAt: 2025-10-21 16:14:20 -0400 (Tue, 21 Oct 2025) EllapsedTime: 128.4 seconds RetCode: 0 Status: OK PackageFile: derfinder_1.43.1.tar.gz PackageFileSize: 2.015 MiB