Package: densvis Version: 1.21.1 Command: /home/biocbuild/bbs-3.23-bioc/R/bin/R CMD INSTALL densvis StartedAt: 2025-11-20 15:10:46 -0500 (Thu, 20 Nov 2025) EndedAt: 2025-11-20 15:11:08 -0500 (Thu, 20 Nov 2025) EllapsedTime: 21.8 seconds RetCode: 0 Status: OK