Package: densvis Version: 1.21.1 Command: /home/biocbuild/bbs-3.23-bioc/R/bin/R CMD build --keep-empty-dirs --no-resave-data densvis StartedAt: 2025-11-20 17:15:22 -0500 (Thu, 20 Nov 2025) EndedAt: 2025-11-20 17:16:51 -0500 (Thu, 20 Nov 2025) EllapsedTime: 89.0 seconds RetCode: 0 Status: OK PackageFile: densvis_1.21.1.tar.gz PackageFileSize: 1.682 MiB