Package: densvis Version: 1.21.1 Command: /Library/Frameworks/R.framework/Resources/bin/R CMD INSTALL densvis StartedAt: 2025-11-21 15:18:10 -0500 (Fri, 21 Nov 2025) EndedAt: 2025-11-21 15:18:34 -0500 (Fri, 21 Nov 2025) EllapsedTime: 23.6 seconds RetCode: 0 Status: OK