Package: densvis Version: 1.21.1 Command: /Library/Frameworks/R.framework/Resources/bin/R CMD build --keep-empty-dirs --no-resave-data densvis StartedAt: 2025-11-20 16:46:33 -0500 (Thu, 20 Nov 2025) EndedAt: 2025-11-20 16:48:17 -0500 (Thu, 20 Nov 2025) EllapsedTime: 104.0 seconds RetCode: 0 Status: OK PackageFile: densvis_1.21.1.tar.gz PackageFileSize: 1.787 MiB