Package: densvis Version: 1.21.1 Command: rm -rf densvis.buildbin-libdir && mkdir densvis.buildbin-libdir && /Users/biocbuild/BBS/utils/build-universal.sh densvis_1.21.1.tar.gz /Library/Frameworks/R.framework/Resources/bin/R densvis.buildbin-libdir StartedAt: 2025-11-21 01:30:34 -0500 (Fri, 21 Nov 2025) EndedAt: 2025-11-21 01:31:04 -0500 (Fri, 21 Nov 2025) EllapsedTime: 30.1 seconds RetCode: 0 Status: OK PackageFile: densvis_1.21.1.tgz PackageFileSize: 1.846 MiB