Package: demuxmix Version: 1.13.0 Command: /home/biocbuild/bbs-3.23-bioc/R/bin/R CMD build --keep-empty-dirs --no-resave-data demuxmix StartedAt: 2025-10-31 17:26:35 -0400 (Fri, 31 Oct 2025) EndedAt: 2025-10-31 17:27:12 -0400 (Fri, 31 Oct 2025) EllapsedTime: 37.0 seconds RetCode: 0 Status: OK PackageFile: demuxmix_1.13.0.tar.gz PackageFileSize: 1.436 MiB