Package: demuxmix Version: 1.13.0 Command: /Library/Frameworks/R.framework/Resources/bin/R CMD INSTALL demuxmix StartedAt: 2025-11-21 15:14:49 -0500 (Fri, 21 Nov 2025) EndedAt: 2025-11-21 15:15:29 -0500 (Fri, 21 Nov 2025) EllapsedTime: 40.5 seconds RetCode: 0 Status: OK