Package: demuxmix Version: 1.13.0 Command: /Library/Frameworks/R.framework/Resources/bin/R CMD build --keep-empty-dirs --no-resave-data demuxmix StartedAt: 2025-11-21 16:46:29 -0500 (Fri, 21 Nov 2025) EndedAt: 2025-11-21 16:47:21 -0500 (Fri, 21 Nov 2025) EllapsedTime: 52.7 seconds RetCode: 0 Status: OK PackageFile: demuxmix_1.13.0.tar.gz PackageFileSize: 1.423 MiB