Package: demuxmix Version: 1.13.0 Command: rm -rf demuxmix.buildbin-libdir && mkdir demuxmix.buildbin-libdir && /Users/biocbuild/BBS/utils/build-universal.sh demuxmix_1.13.0.tar.gz /Library/Frameworks/R.framework/Resources/bin/R demuxmix.buildbin-libdir StartedAt: 2025-11-22 01:30:54 -0500 (Sat, 22 Nov 2025) EndedAt: 2025-11-22 01:31:13 -0500 (Sat, 22 Nov 2025) EllapsedTime: 18.5 seconds RetCode: 0 Status: OK PackageFile: demuxmix_1.13.0.tgz PackageFileSize: 1.741 MiB