Package: demuxmix Version: 1.11.0 Command: rm -rf demuxmix.buildbin-libdir && mkdir demuxmix.buildbin-libdir && /Users/biocbuild/BBS/utils/build-universal.sh demuxmix_1.11.0.tar.gz /Library/Frameworks/R.framework/Resources/bin/R demuxmix.buildbin-libdir StartedAt: 2025-10-23 23:07:10 -0400 (Thu, 23 Oct 2025) EndedAt: 2025-10-23 23:07:15 -0400 (Thu, 23 Oct 2025) EllapsedTime: 5.1 seconds RetCode: 0 Status: OK PackageFile: demuxmix_1.11.0.tgz PackageFileSize: 1.742 MiB