Package: demuxSNP Version: 1.7.1 Command: /Library/Frameworks/R.framework/Resources/bin/R CMD INSTALL demuxSNP StartedAt: 2025-10-20 15:37:24 -0400 (Mon, 20 Oct 2025) EndedAt: 2025-10-20 15:38:31 -0400 (Mon, 20 Oct 2025) EllapsedTime: 66.6 seconds RetCode: 0 Status: OK