Package: demuxSNP Version: 1.7.1 Command: /Library/Frameworks/R.framework/Resources/bin/R CMD build --keep-empty-dirs --no-resave-data demuxSNP StartedAt: 2025-10-20 16:50:52 -0400 (Mon, 20 Oct 2025) EndedAt: 2025-10-20 16:53:42 -0400 (Mon, 20 Oct 2025) EllapsedTime: 169.6 seconds RetCode: 0 Status: OK PackageFile: demuxSNP_1.7.1.tar.gz PackageFileSize: 1.994 MiB