Package: demuxSNP Version: 1.7.1 Command: rm -rf demuxSNP.buildbin-libdir && mkdir demuxSNP.buildbin-libdir && /Users/biocbuild/BBS/utils/build-universal.sh demuxSNP_1.7.1.tar.gz /Library/Frameworks/R.framework/Resources/bin/R demuxSNP.buildbin-libdir StartedAt: 2025-10-21 03:08:21 -0400 (Tue, 21 Oct 2025) EndedAt: 2025-10-21 03:09:27 -0400 (Tue, 21 Oct 2025) EllapsedTime: 66.9 seconds RetCode: 0 Status: OK PackageFile: demuxSNP_1.7.1.tgz PackageFileSize: 1.98 MiB