Package: demuxSNP Version: 1.7.1 Command: /Library/Frameworks/R.framework/Resources/bin/R CMD INSTALL demuxSNP StartedAt: 2025-09-29 15:21:10 -0400 (Mon, 29 Sep 2025) EndedAt: 2025-09-29 15:21:30 -0400 (Mon, 29 Sep 2025) EllapsedTime: 19.6 seconds RetCode: 0 Status: OK