Package: demuxSNP Version: 1.7.1 Command: /Library/Frameworks/R.framework/Resources/bin/R CMD build --keep-empty-dirs --no-resave-data demuxSNP StartedAt: 2025-09-29 16:09:21 -0400 (Mon, 29 Sep 2025) EndedAt: 2025-09-29 16:09:52 -0400 (Mon, 29 Sep 2025) EllapsedTime: 31.3 seconds RetCode: 1 Status: ERROR PackageFile: None PackageFileSize: NA