Package: demuxSNP Version: 1.9.0 Maintainer: Michael Lynch MaintainerEmail: michael.lynch at ul.ie git_url: https://git.bioconductor.org/packages/demuxSNP git_branch: devel git_last_commit: e594034 git_last_commit_date: 2025-10-29 11:23:27 -0400 (Wed, 29 Oct 2025)