Package: deltaCaptureC Version: 1.23.1 Command: /home/biocbuild/R/R/bin/R CMD build --keep-empty-dirs --no-resave-data deltaCaptureC StartedAt: 2025-10-13 23:44:24 -0000 (Mon, 13 Oct 2025) EndedAt: 2025-10-13 23:47:16 -0000 (Mon, 13 Oct 2025) EllapsedTime: 172.1 seconds RetCode: 0 Status: OK PackageFile: deltaCaptureC_1.23.1.tar.gz PackageFileSize: 332.4 KiB