Package: deltaCaptureC Version: 1.25.0 Command: /home/biocbuild/bbs-3.23-bioc/R/bin/R CMD check --install=check:deltaCaptureC.install-out.txt --library=/home/biocbuild/bbs-3.23-bioc/R/site-library --timings deltaCaptureC_1.25.0.tar.gz StartedAt: 2025-11-14 22:50:01 -0500 (Fri, 14 Nov 2025) EndedAt: 2025-11-14 22:56:28 -0500 (Fri, 14 Nov 2025) EllapsedTime: 387.5 seconds RetCode: 0 Status: OK CheckDir: deltaCaptureC.Rcheck Warnings: 0