Package: deltaCaptureC Version: 1.25.0 Command: /home/biocbuild/bbs-3.23-bioc/R/bin/R CMD build --keep-empty-dirs --no-resave-data deltaCaptureC StartedAt: 2025-11-05 17:17:22 -0500 (Wed, 05 Nov 2025) EndedAt: 2025-11-05 17:19:17 -0500 (Wed, 05 Nov 2025) EllapsedTime: 115.1 seconds RetCode: 0 Status: OK PackageFile: deltaCaptureC_1.25.0.tar.gz PackageFileSize: 331.8 KiB