Package: deepSNV Version: 1.57.0 Command: /home/biocbuild/bbs-3.23-bioc/R/bin/R CMD INSTALL deepSNV StartedAt: 2025-11-19 15:43:30 -0500 (Wed, 19 Nov 2025) EndedAt: 2025-11-19 15:44:14 -0500 (Wed, 19 Nov 2025) EllapsedTime: 44.1 seconds RetCode: 0 Status: OK