Package: deepSNV Version: 1.55.0 Command: /Library/Frameworks/R.framework/Resources/bin/R CMD INSTALL deepSNV StartedAt: 2025-10-28 15:37:57 -0400 (Tue, 28 Oct 2025) EndedAt: 2025-10-28 15:38:59 -0400 (Tue, 28 Oct 2025) EllapsedTime: 61.2 seconds RetCode: 0 Status: OK