Package: deepSNV Version: 1.55.0 Command: /Library/Frameworks/R.framework/Resources/bin/R CMD build --keep-empty-dirs --no-resave-data deepSNV StartedAt: 2025-10-28 16:42:27 -0400 (Tue, 28 Oct 2025) EndedAt: 2025-10-28 16:44:17 -0400 (Tue, 28 Oct 2025) EllapsedTime: 110.7 seconds RetCode: 0 Status: OK PackageFile: deepSNV_1.55.0.tar.gz PackageFileSize: 2.529 MiB