Package: deepSNV Version: 1.55.0 Command: /Library/Frameworks/R.framework/Resources/bin/R CMD INSTALL deepSNV StartedAt: 2025-10-13 15:21:36 -0400 (Mon, 13 Oct 2025) EndedAt: 2025-10-13 15:21:53 -0400 (Mon, 13 Oct 2025) EllapsedTime: 17.9 seconds RetCode: 0 Status: OK