Package: deepSNV Version: 1.55.0 Command: /Library/Frameworks/R.framework/Resources/bin/R CMD build --keep-empty-dirs --no-resave-data deepSNV StartedAt: 2025-10-13 16:09:31 -0400 (Mon, 13 Oct 2025) EndedAt: 2025-10-13 16:10:05 -0400 (Mon, 13 Oct 2025) EllapsedTime: 34.4 seconds RetCode: 0 Status: OK PackageFile: deepSNV_1.55.0.tar.gz PackageFileSize: 2.529 MiB