Package: decoupleR Version: 2.17.0 Command: /home/biocbuild/bbs-3.23-bioc/R/bin/R CMD build --keep-empty-dirs --no-resave-data decoupleR StartedAt: 2025-11-07 17:08:31 -0500 (Fri, 07 Nov 2025) EndedAt: 2025-11-07 17:11:10 -0500 (Fri, 07 Nov 2025) EllapsedTime: 159.1 seconds RetCode: 0 Status: OK PackageFile: decoupleR_2.17.0.tar.gz PackageFileSize: 4.48 MiB