Back to Build/check report for BioC 3.22:   simplified   long
ABC[D]EFGHIJKLMNOPQRSTUVWXYZ

This page was generated on 2025-10-27 12:45 -0400 (Mon, 27 Oct 2025).

HostnameOSArch (*)R versionInstalled pkgs
kjohnson3macOS 13.7.7 Venturaarm644.5.1 Patched (2025-09-10 r88807) -- "Great Square Root" 4637
Click on any hostname to see more info about the system (e.g. compilers)      (*) as reported by 'uname -p', except on Windows and Mac OS X

All results for package decoupleR


To the developers/maintainers of the decoupleR package:
- Allow up to 24 hours (and sometimes 48 hours) for your latest push to git@git.bioconductor.org:packages/decoupleR.git to reflect on this report. See Troubleshooting Build Report for more information.
- Use the following Renviron settings to reproduce errors and warnings.
- If 'R CMD check' started to fail recently on the Linux builder(s) over a missing dependency, add the missing dependency to 'Suggests:' in your DESCRIPTION file. See Renviron.bioc for more information.

raw results

Package 541/2361HostnameOS / ArchINSTALLBUILDCHECKBUILD BIN
decoupleR 2.15.0  (landing page)
Pau Badia-i-Mompel
Snapshot Date: 2025-10-26 13:45 -0400 (Sun, 26 Oct 2025)
git_url: https://git.bioconductor.org/packages/decoupleR
git_branch: devel
git_last_commit: 6010cb0
git_last_commit_date: 2025-04-15 12:31:44 -0400 (Tue, 15 Apr 2025)
kjohnson3macOS 13.7.7 Ventura / arm64  OK    ERROR  skippedskipped



Results for Bioconductor software packages that depend directly on package decoupleR

QUICK STATSOS / ArchINSTALLBUILDCHECKBUILD BIN
kjohnson3macOS 13.7.7 Ventura / arm64
005
014
0103
004
Package 1/5HostnameOS / ArchINSTALLBUILDCHECKBUILD BIN
cosmosR 1.17.0  (landing page)
Attila Gabor
git_last_commit: 7a0ac96
git_last_commit_date: 2025-04-15 12:30:23 -0400
kjohnson3macOS 13.7.7 Ventura / arm64  OK    OK    OK    OK  UNNEEDED, same version is already published
Package 2/5HostnameOS / ArchINSTALLBUILDCHECKBUILD BIN
easier 1.15.0  (landing page)
Oscar Lapuente-Santana
git_last_commit: 517a79b
git_last_commit_date: 2025-04-15 12:42:57 -0400
kjohnson3macOS 13.7.7 Ventura / arm64  OK    ERROR  skippedskipped
Package 3/5HostnameOS / ArchINSTALLBUILDCHECKBUILD BIN
pathMED 1.1.6  (landing page)
Jordi Martorell-Marugán
git_last_commit: 5a1b067
git_last_commit_date: 2025-10-06 07:44:30 -0400
kjohnson3macOS 13.7.7 Ventura / arm64  OK    OK    ERROR    OK  
Package 4/5HostnameOS / ArchINSTALLBUILDCHECKBUILD BIN
progeny 1.31.0  (landing page)
Aurélien Dugourd
git_last_commit: e090491
git_last_commit_date: 2025-04-15 11:15:20 -0400
kjohnson3macOS 13.7.7 Ventura / arm64  OK    OK    OK    OK  UNNEEDED, same version is already published
Package 5/5HostnameOS / ArchINSTALLBUILDCHECKBUILD BIN
SmartPhos 0.99.30  (landing page)
Shubham Agrawal
git_last_commit: 38bf3de
git_last_commit_date: 2025-10-01 09:40:06 -0400
kjohnson3macOS 13.7.7 Ventura / arm64  OK    OK    OK    OK  UNNEEDED, same version is already published