Package: deconvR Version: 1.15.1 Command: /home/biocbuild/R/R/bin/R CMD INSTALL deconvR StartedAt: 2025-10-13 21:31:12 -0000 (Mon, 13 Oct 2025) EndedAt: 2025-10-13 21:32:15 -0000 (Mon, 13 Oct 2025) EllapsedTime: 62.3 seconds RetCode: 0 Status: OK