Package: deconvR Version: 1.15.1 Command: /home/biocbuild/R/R/bin/R CMD build --keep-empty-dirs --no-resave-data deconvR StartedAt: 2025-10-13 23:39:58 -0000 (Mon, 13 Oct 2025) EndedAt: 2025-10-13 23:42:34 -0000 (Mon, 13 Oct 2025) EllapsedTime: 156.0 seconds RetCode: 0 Status: OK PackageFile: deconvR_1.15.1.tar.gz PackageFileSize: 3.858 MiB