Package: deconvR Version: 1.15.1 Command: /home/biocbuild/bbs-3.22-bioc/R/bin/R CMD check --install=check:deconvR.install-out.txt --library=/home/biocbuild/bbs-3.22-bioc/R/site-library --timings deconvR_1.15.1.tar.gz StartedAt: 2025-10-15 23:34:29 -0400 (Wed, 15 Oct 2025) EndedAt: 2025-10-15 23:53:57 -0400 (Wed, 15 Oct 2025) EllapsedTime: 1168.3 seconds RetCode: 0 Status: OK CheckDir: deconvR.Rcheck Warnings: 0