Package: deconvR Version: 1.17.0 Command: /home/biocbuild/bbs-3.23-bioc/R/bin/R CMD INSTALL deconvR StartedAt: 2025-11-05 15:52:54 -0500 (Wed, 05 Nov 2025) EndedAt: 2025-11-05 15:53:44 -0500 (Wed, 05 Nov 2025) EllapsedTime: 50.1 seconds RetCode: 0 Status: OK