Package: deconvR Version: 1.17.0 Command: /home/biocbuild/bbs-3.23-bioc/R/bin/R CMD build --keep-empty-dirs --no-resave-data deconvR StartedAt: 2025-11-05 17:14:36 -0500 (Wed, 05 Nov 2025) EndedAt: 2025-11-05 17:16:30 -0500 (Wed, 05 Nov 2025) EllapsedTime: 114.1 seconds RetCode: 0 Status: OK PackageFile: deconvR_1.17.0.tar.gz PackageFileSize: 3.794 MiB